BEGIN:VCALENDAR
VERSION:2.0
PRODID:-//AudioTheme 1.6.3
BEGIN:VEVENT
UID:http://sanglaser.com/?post_type=audiotheme_gig&#038;p=1191
URL:https://sanglaser.com/live/san-glaser-duo-bar-italia/
DTSTART;TZID=GMT:20191206T183000
SUMMARY:San Glaser Duo Bar Italia
DESCRIPTION:San Glaser und Arnd Geise Duo bass/vocals
LOCATION:Bar Italia\, Eppendorfer Landstraße 61  \, Hamburg\, \, Deutschland\, 20249 
END:VEVENT
END:VCALENDAR