BEGIN:VCALENDAR
VERSION:2.0
PRODID:-//AudioTheme 1.6.3
BEGIN:VEVENT
UID:http://sanglaser.com/?post_type=audiotheme_gig&#038;p=1189
URL:https://sanglaser.com/live/san-glaser-duo-stortebeker/
DTSTART;TZID=GMT:20191019T180000
SUMMARY:San Glaser Duo Störtebeker
DESCRIPTION:San Glaser und Arnd Geise Duo bass/vocals
LOCATION:Störtebeker Elbphilharmonie\, Platz der Deutschen Einheit 3  \, Hamburg\, \, Germany\, 20457 
END:VEVENT
END:VCALENDAR