BEGIN:VCALENDAR
VERSION:2.0
PRODID:-//AudioTheme 1.6.3
BEGIN:VEVENT
UID:http://sanglaser.com/?post_type=audiotheme_gig&#038;p=988
URL:https://sanglaser.com/live/san-glaser-im-radio-bei-deutschlandradio-kultur/
DTSTART;TZID=GMT:20181127T220000
SUMMARY:San Glaser im Radio bei Deutschlandradio Kultur
DESCRIPTION:Albumvorstellung "TGGH" in der Sendung "Fazit"
LOCATION:Deutschlandradio Kultur\, Berlin\, 
END:VEVENT
END:VCALENDAR