BEGIN:VCALENDAR
VERSION:2.0
PRODID:-//AudioTheme 1.6.3
BEGIN:VEVENT
UID:http://sanglaser.com/?post_type=audiotheme_gig&#038;p=990
URL:https://sanglaser.com/live/san-glaser-im-radio-bei-radio-rbb-the-voice/
DTSTART;TZID=GMT:20190117T183000
SUMMARY:San Glaser im Radio bei Radio RBB "The Voice"
DESCRIPTION:Albumvorstellung "TGGH" in der Sendung "The Voice" mit Lothar Jänichen
LOCATION:Radio RBB\, Berlin\, 
END:VEVENT
END:VCALENDAR