BEGIN:VCALENDAR
VERSION:2.0
PRODID:-//AudioTheme 1.6.3
BEGIN:VEVENT
UID:http://sanglaser.com/?post_type=audiotheme_gig&#038;p=1115
URL:https://sanglaser.com/live/san-glaser-in-burg-zu-hagen/
DTSTART;TZID=GMT:20200328T183000
SUMMARY:San Glaser & Band in Burg zu Hagen
DESCRIPTION:San Glaser & Band "The Great Grand Hotel" 
LOCATION:Burg zu Hagen\, Burgallee 1\, Hagen im Bremischen\, \, Deutschland\, 27628
END:VEVENT
END:VCALENDAR