BEGIN:VCALENDAR
VERSION:2.0
PRODID:-//AudioTheme 1.6.3
BEGIN:VEVENT
UID:http://sanglaser.com/?post_type=audiotheme_gig&#038;p=720
URL:https://sanglaser.com/live/san-glaser-jakob-junker-hauses/
DTSTART;TZID=GMT:20170915T160000
SUMMARY:San Glaser Jakob-Junker-Hauses
DESCRIPTION:San Glaser Solo 
LOCATION:Jakob-Junker-Hauses\, Borsteler Chaussee 23\, Hamburg\, \, Germany\, 22453
END:VEVENT
END:VCALENDAR