BEGIN:VCALENDAR
VERSION:2.0
PRODID:-//AudioTheme 1.6.3
BEGIN:VEVENT
UID:http://sanglaser.com/?post_type=audiotheme_gig&#038;p=927
URL:https://sanglaser.com/live/san-glaser-jazzterdays/
DTSTART;TZID=GMT:20181111T190000
SUMMARY:San Glaser Jazzterdays
DESCRIPTION:San Glaser mit der "Jazzterdays" Jazz Revue
LOCATION:Koralle Kino\, Kattjahren 1c\, Hamburg\, \, 22359
END:VEVENT
END:VCALENDAR