BEGIN:VCALENDAR
VERSION:2.0
PRODID:-//AudioTheme 1.6.3
BEGIN:VEVENT
UID:http://sanglaser.com/?post_type=audiotheme_gig&#038;p=1114
URL:https://sanglaser.com/live/san-glaser-mesmer-momentum/
DTSTART;TZID=GMT:20191122T190000
SUMMARY:San Glaser & Band Meßmer Momentum
DESCRIPTION:Dockside Drums Stefan Weinzierl feat. San Glaser & Band
LOCATION:Meßmer Momentum\, Am Kaiserkai 10  \, Hamburg\, \, Germany\, 20457 
END:VEVENT
END:VCALENDAR