BEGIN:VCALENDAR
VERSION:2.0
PRODID:-//AudioTheme 1.6.3
BEGIN:VEVENT
UID:http://sanglaser.com/?post_type=audiotheme_gig&#038;p=982
URL:https://sanglaser.com/live/san-glaser-mit-jazzterdays/
DTSTART;TZID=GMT:20191101T190000
SUMMARY:San Glaser mit JAZZTERDAYS Schloss Reinbek
DESCRIPTION:San Glaser mit JAZZTERDAYS Schloss Reinbek
LOCATION:Schloss Reinbek\, Schloßstraße 5  \, Reinbek\, \, Germany\, 21465 
END:VEVENT
END:VCALENDAR