BEGIN:VCALENDAR
VERSION:2.0
PRODID:-//AudioTheme 1.6.3
BEGIN:VEVENT
UID:http://sanglaser.com/?post_type=audiotheme_gig&#038;p=753
URL:https://sanglaser.com/live/san-glaser-trio-eutin-im-rittersaal/
DTSTART;TZID=GMT:20180430T200000
SUMMARY:San Glaser Trio Eutin im Rittersaal
DESCRIPTION:San Glaser Trio
LOCATION:"Schloss in den Mai"\, Schloßplatz 5\, Eutin\, \, Germany\, 23701 
END:VEVENT
END:VCALENDAR