BEGIN:VCALENDAR
VERSION:2.0
PRODID:-//AudioTheme 1.6.3
BEGIN:VEVENT
UID:http://sanglaser.com/?post_type=audiotheme_gig&#038;p=1198
URL:https://sanglaser.com/live/san-glaser-und-arnd-geise-im-duo-burg-henneberg/
DTSTART;TZID=GMT:20200209T180000
SUMMARY:San Glaser und Arnd Geise im Duo Burg Henneberg
DESCRIPTION:San Glaser und Arnd Geise im Duo bass/vocals 
LOCATION:Alsterschlösschen Burg Henneberg\, Marienhof 8\, Hamburg\, \, Germany\, 22399
END:VEVENT
END:VCALENDAR