BEGIN:VCALENDAR
VERSION:2.0
PRODID:-//AudioTheme 1.6.3
BEGIN:VEVENT
UID:https://sanglaser.com/?post_type=audiotheme_gig&#038;p=2214
URL:https://sanglaser.com/live/san-im-ndr-kultur-extra-20-jahre-songs-voller-sehnsucht/
DTSTART;TZID=GMT:20260121T170000
SUMMARY:San im NDR Kultur Extra "20 Jahre Songs voller Sehnsucht"
DESCRIPTION:18 Uhr - Radiokonzert von und mit Claus Röck "San Glaser - 20 Jahre Songs voller Sehnsucht" mit Arnd Geise/Bass\, Mischa Schumann/Grand Piano und Yared Dibaba/Moderator
LOCATION:NDR Kultur EXTRA\, Hamburg\, 
END:VEVENT
END:VCALENDAR