BEGIN:VCALENDAR
VERSION:2.0
PRODID:-//AudioTheme 1.6.3
BEGIN:VEVENT
UID:https://sanglaser.com/?post_type=audiotheme_gig&#038;p=2195
URL:https://sanglaser.com/live/san-mit-nicas-dreamband-silvester-special/
DTSTART;TZID=GMT:20261231T200000
SUMMARY:San mit Nica's Dreamband Silvester Special
DESCRIPTION:San mit Nica's Dreamband Silvester Special
LOCATION:NICA Jazz Club\, Alter Wall 20\, Hamburg \, \, Deutschland\, 20457
END:VEVENT
END:VCALENDAR