BEGIN:VCALENDAR
VERSION:2.0
PRODID:-//AudioTheme 1.6.3
BEGIN:VEVENT
UID:http://sanglaser.com/?post_type=audiotheme_gig&#038;p=945
URL:https://sanglaser.com/live/summerjazz-in-eppendorf/
DTSTART;TZID=GMT:20180825T200000
SUMMARY:Summerjazz in Eppendorf
DESCRIPTION:San Glaser Band "The Great Grand Hotel" TOUR
LOCATION:Summerjazz Festival Eppendorf\, Marie-Jonas-Platz  \, Hamburg\, \, Germany
END:VEVENT
END:VCALENDAR